BEGIN:VCALENDAR
VERSION:2.0
PRODID:-//Lambs Farm - ECPv6.15.17.1//NONSGML v1.0//EN
CALSCALE:GREGORIAN
METHOD:PUBLISH
X-WR-CALNAME:Lambs Farm
X-ORIGINAL-URL:https://lambsfarm.org
X-WR-CALDESC:Events for Lambs Farm
REFRESH-INTERVAL;VALUE=DURATION:PT1H
X-Robots-Tag:noindex
X-PUBLISHED-TTL:PT1H
BEGIN:VTIMEZONE
TZID:UTC
BEGIN:STANDARD
TZOFFSETFROM:+0000
TZOFFSETTO:+0000
TZNAME:UTC
DTSTART:20250101T000000
END:STANDARD
END:VTIMEZONE
BEGIN:VEVENT
DTSTART;TZID=UTC:20260207T100000
DTEND;TZID=UTC:20260207T130000
DTSTAMP:20260421T085201
CREATED:20240102T233228Z
LAST-MODIFIED:20260121T154617Z
UID:10000034-1770458400-1770469200@lambsfarm.org
SUMMARY:Cookies & Cocoa
DESCRIPTION:Join us on Saturday\, February 7  from 10am to 1pm for Cookies & Cocoa at our cozy Magnolia Cafe & Bakery!\n \nGuests will warm up at our fully stocked cocoa bar\, decorate delicious sugar cookies\, make Valentine’s Day crafts for their loved ones and gather around for story time.\n \nAdmission:\nChildren: $12\nAdults: $5\n \nNo pre-registration required.\n 
URL:https://lambsfarm.org/event/cookies-cocoa/
LOCATION:Magnolia Cafe & Bakery\, 14245 W Rockland Road\, Libertyville\, IL\, 60048\, United States
CATEGORIES:Cookies & Cocoa
ATTACH;FMTTYPE=image/jpeg:https://lambsfarm.org/wp-content/uploads/2024/01/logo.jpg
ORGANIZER;CN="Elaine Bock":MAILTO:emb@lambsfarm.org
END:VEVENT
END:VCALENDAR